BEGIN:VCALENDAR
VERSION:2.0
PRODID:-//Hexen-Stuebchen - ECPv6.11.2//NONSGML v1.0//EN
CALSCALE:GREGORIAN
METHOD:PUBLISH
X-WR-CALNAME:Hexen-Stuebchen
X-ORIGINAL-URL:https://hexen-stuebchen.de
X-WR-CALDESC:Veranstaltungen für Hexen-Stuebchen
REFRESH-INTERVAL;VALUE=DURATION:PT1H
X-Robots-Tag:noindex
X-PUBLISHED-TTL:PT1H
BEGIN:VTIMEZONE
TZID:UTC
BEGIN:STANDARD
TZOFFSETFROM:+0000
TZOFFSETTO:+0000
TZNAME:UTC
DTSTART:20260101T000000
END:STANDARD
END:VTIMEZONE
BEGIN:VEVENT
DTSTART;TZID=UTC:20260114T190000
DTEND;TZID=UTC:20260114T210000
DTSTAMP:20260426T015504
CREATED:20250917T164159Z
LAST-MODIFIED:20260111T154942Z
UID:4121-1768417200-1768424400@hexen-stuebchen.de
SUMMARY:Austauschgruppe für spirituell interessierte Menschen (1x monatl.)
DESCRIPTION:Jeder ist willkommen und wird gesehen mit seinen Fragen und Meinungen rund um dieses interessante und weitläufige Thema. \nIm Januar ist die Steinbock-Energie (Struktur\, Disziplin) vorherrschend. \nThema: Visionen für das Jahr – Seelenziele manifestieren -mögliche Gesprächsimpulse\n\n\nWas möchte deine Seele in diesem Jahr erfahren? \n\n\nWelche alten Strukturen willst du hinter dir lassen? \n\n\nWarum so ein Gesprächskreis besonders ist\n\n\nTiefe Verbindung: entsteht\, wenn Menschen sehr persönliche und berührende Erlebnisse teilen. \n\n\nStärkung der Selbstwahrnehmung: du erkennst\, dass du etwas Wertvolles in dir trägst\, das nicht von äußeren Umständen abhängt. \n\n\nInspiration & Mut: Durch das Hören der Geschichten anderer entsteht Hoffnung und Motivation\, selbst mehr zu strahlen. \n\n\nSpirituelle Dimension: „Inneres Licht“ kann als universelle\, zeitlose Kraft verstanden werden – unabhängig von Religion – und gibt dem Gespräch eine besonders nährende Atmosphäre. \n\n\nEnergieaustausch: In einer offenen\, wohlwollenden Runde verstärkt sich das Gefühl von Wärme\, Freude und innerem Frieden. \n\n\nLasst uns zusammen erforschen\, wann dein Licht am meisten strahlt. Erschaffen wir einen Gesprächskreis\, in dem jeder lernen und wachsen kann. \nWir bitten um Anmeldung\, da nur begrenzte Plätze zur Verfügung stehen. Um einen Energieausgleich von 5€ wird gebeten.
URL:https://hexen-stuebchen.de/veranstaltung/austauschgruppe-fuer-spirituell-interessierte-menschen-1x-monatl-3/
LOCATION:Hexenstübchen\, Kirchplatz 5\, Rinteln\, Niedersachsen\, 31737\, Germany
ATTACH;FMTTYPE=image/jpeg:https://hexen-stuebchen.de/wp-content/uploads/2025/08/assets_task_01k1xg2szceszsjh303m097cvd_1754410464_img_1.jpg
ORGANIZER;CN="Ria Kestel":MAILTO:info@hexen-stuebchen.de
END:VEVENT
END:VCALENDAR