BEGIN:VCALENDAR
VERSION:2.0
PRODID:-//Hexen-Stuebchen - ECPv6.11.2//NONSGML v1.0//EN
CALSCALE:GREGORIAN
METHOD:PUBLISH
X-WR-CALNAME:Hexen-Stuebchen
X-ORIGINAL-URL:https://hexen-stuebchen.de
X-WR-CALDESC:Veranstaltungen für Hexen-Stuebchen
REFRESH-INTERVAL;VALUE=DURATION:PT1H
X-Robots-Tag:noindex
X-PUBLISHED-TTL:PT1H
BEGIN:VTIMEZONE
TZID:UTC
BEGIN:STANDARD
TZOFFSETFROM:+0000
TZOFFSETTO:+0000
TZNAME:UTC
DTSTART:20260101T000000
END:STANDARD
END:VTIMEZONE
BEGIN:VEVENT
DTSTART;TZID=UTC:20260421T190000
DTEND;TZID=UTC:20260421T200000
DTSTAMP:20260421T014140
CREATED:20250204T183224Z
LAST-MODIFIED:20260314T104237Z
UID:3548-1776798000-1776801600@hexen-stuebchen.de
SUMMARY:Farbmeditation Chakrenbalance: Deine Reise durch farbige Räume
DESCRIPTION:Farbmeditation Chakrenbalance: Mit Farben deine Energie ins Gleichgewicht bringen\nBegib dich jetzt auf deine farbenfrohe Reise und erlebe die tiefe Wirkung der Farbmeditation Chakrenbalance. Aktiviere deine Energiezentren\, finde innere Harmonie und schöpfe neue Kraft für deinen Alltag. Sichere dir noch heute deinen Platz und tauche ein in die Welt der Farben! \nWarum eine Farbmeditation Chakrenbalance so wirksam ist\nFarben als Schlüssel zur inneren Harmonie \nJede Farbe wirkt auf unser Energiesystem und beeinflusst Emotionen\, Körper und Geist. In der Farbmeditation Chakrenbalance nutzt du gezielt Farbschwingungen\, um deine sieben Hauptchakren zu aktivieren\, zu reinigen und in Einklang zu bringen. \nDurch die bewusste Arbeit mit Farben kannst du: \n\nBlockaden lösen\,\nEnergiefluss stärken\,\nemotionale und körperliche Heilung fördern.\n\nWas diese Farbmeditation einzigartig macht\nIm Gegensatz zu klassischen Meditationen oder reinen Chakra-Arbeiten verbindet die Farbmeditation Chakrenbalance gezielt farbliche Visualisierungen mit der energetischen Reinigung und Harmonisierung der Chakren. \nJeder farbige Raum ist auf die Frequenz eines bestimmten Chakras abgestimmt\, was die Wirkung besonders intensiv und tiefgreifend macht. \nAußerdem erfolgt die Begleitung in einer liebevollen Atmosphäre\, die auch Anfängern den Zugang zur Farb- und Energiearbeit erleichtert. \nAblauf der Farbmeditation Chakrenbalance \nAnkommen und Einstimmung \nZu Beginn wirst du mit sanften Atemübungen und kurzen Achtsamkeitstechniken auf die Meditation vorbereitet. Dadurch öffnet sich dein Bewusstsein für die Farben und ihre energetische Wirkung. \nReise durch die farbigen Räume \nGeführt durch beruhigende Worte tauchst du ein in sieben farbige Räume – jeweils einem Chakra zugeordnet: \n\nRot für das Wurzelchakra (Urvertrauen\, Stabilität)\,\nOrange für das Sakralchakra (Lebensfreude\, Kreativität)\,\nGelb für das Solarplexuschakra (Selbstbewusstsein\, Kraft)\,\nGrün für das Herzchakra (Liebe\, Mitgefühl)\,\nBlau für das Halschakra (Ausdruck\, Kommunikation)\,\nIndigo für das Stirnchakra (Intuition\, Erkenntnis)\,\nViolett für das Kronenchakra (Spiritualität\, Verbundenheit).\n\nIn jedem Raum stärkst du gezielt das entsprechende Chakra und spürst\, wie deine Energien harmonisiert werden. \nNachspüren und Integration \nIm Anschluss hast du Zeit\, die Reise nachklingen zu lassen\, deine Eindrücke zu reflektieren und die neu gewonnene Energie bewusst zu integrieren.
URL:https://hexen-stuebchen.de/veranstaltung/farbmeditation-chakrenbalance-deine-reise-durch-farbige-raeume/
LOCATION:Hexenstübchen\, Kirchplatz 5\, Rinteln\, Niedersachsen\, 31737\, Germany
CATEGORIES:Meditationen
ATTACH;FMTTYPE=image/png:https://hexen-stuebchen.de/wp-content/uploads/2025/02/Farbmeditation__Chakrenbalance.png
ORGANIZER;CN="Ria Kestel":MAILTO:info@hexen-stuebchen.de
END:VEVENT
END:VCALENDAR