BEGIN:VCALENDAR
VERSION:2.0
PRODID:-//Hexen-Stuebchen - ECPv6.11.2//NONSGML v1.0//EN
CALSCALE:GREGORIAN
METHOD:PUBLISH
X-WR-CALNAME:Hexen-Stuebchen
X-ORIGINAL-URL:https://hexen-stuebchen.de
X-WR-CALDESC:Veranstaltungen für Hexen-Stuebchen
REFRESH-INTERVAL;VALUE=DURATION:PT1H
X-Robots-Tag:noindex
X-PUBLISHED-TTL:PT1H
BEGIN:VTIMEZONE
TZID:UTC
BEGIN:STANDARD
TZOFFSETFROM:+0000
TZOFFSETTO:+0000
TZNAME:UTC
DTSTART:20260101T000000
END:STANDARD
END:VTIMEZONE
BEGIN:VEVENT
DTSTART;TZID=UTC:20260512T190000
DTEND;TZID=UTC:20260512T200000
DTSTAMP:20260425T211427
CREATED:20250123T080226Z
LAST-MODIFIED:20260404T132241Z
UID:3499-1778612400-1778616000@hexen-stuebchen.de
SUMMARY:Geführte Krafttier-Meditation: Begegne deinem spirituellen Begleiter
DESCRIPTION:Geführte Krafttier-Meditation: Finde deinen spirituellen Begleiter und stärke deine Intuition\nEine geführte Krafttier-Meditation bietet dir die wunderbare Möglichkeit\, deinem spirituellen Begleiter zu begegnen. Krafttiere stehen als Symbol für tiefere Weisheiten\, Schutz und Inspiration. Diese Meditation öffnet dir den Zugang zu einer spirituellen Ebene\, auf der du Unterstützung und neue Impulse für deinen Lebensweg erhältst. \nBegib dich auf eine magische Reise zu deinem Krafttier und entdecke\, welche Botschaften und Energien auf dich warten. \nWarum eine geführte Krafttier-Meditation so besonders ist\nWas ist ein Krafttier?\nKrafttiere sind spirituelle Wegbegleiter\, die in vielen Kulturen als Quelle von Stärke\, Schutz und Weisheit verehrt werden. Sie spiegeln unsere inneren Qualitäten wider und helfen uns\, Herausforderungen im Leben besser zu meistern. \nDurch eine geführte Krafttier-Meditation kannst du intuitiv erkennen\, welches Tier dich auf deinem Lebensweg unterstützt. Die Begegnung mit deinem Krafttier bringt dir Klarheit\, Selbstvertrauen und eine tiefere Verbindung zu deinem wahren Selbst. \nWas viele Meditationen gemeinsam haben\nWie bei anderen spirituellen Meditationen ermöglicht auch die geführte Krafttier-Meditation: \n\n\ntiefe Entspannung\, \n\n\nAchtsamkeit gegenüber inneren Prozessen\, \n\n\neine Erweiterung des Bewusstseins\, \n\n\nemotionale Ausgeglichenheit. \n\n\nWas diese Krafttier-Meditation einzigartig macht\nIm Gegensatz zu klassischen Entspannungsmeditationen geht es bei der geführten Krafttier-Meditation darum\, eine konkrete spirituelle Begegnung herzustellen. Du trittst in Kontakt mit einem persönlichen Krafttier\, das dir gezielt Botschaften sendet und dich auf deinem Lebensweg begleitet. \nZudem wirst du achtsam und liebevoll in den Prozess eingeführt\, sodass auch Anfänger ohne Vorerfahrung leicht Zugang finden. \nDer Ablauf deiner geführten Krafttier-Meditation\nEinstimmung und Vorbereitung\nDie Reise beginnt mit sanften Entspannungsübungen und einer bewussten Zentrierung. Du lässt den Alltag hinter dir und öffnest dein Bewusstsein für neue spirituelle Erfahrungen. \nDie Reise in die Welt der Krafttiere\nGeführt von meiner beruhigenden Stimme begibst du dich auf eine innere Reise. In einer sicheren und liebevollen Umgebung begegnet dir dein persönliches Krafttier – kraftvoll\, weise und schützend. \nDu nimmst Kontakt auf\, lauschst den Botschaften und erfährst\, welche Qualitäten und Stärken dein Krafttier dir übermitteln möchte. \nNachspüren und Integration\nNach der Meditation gibt es Zeit zum Nachspüren und optionalen Austausch. Du kannst deine Erlebnisse reflektieren\, Fragen stellen und die Verbindung zu deinem Krafttier weiter festigen. \nVorteile der geführten Krafttier-Meditation\n\n\nStärkung der Intuition: Du lernst\, deiner inneren Stimme mehr zu vertrauen. \n\n\nSpirituelle Begleitung: Dein Krafttier bietet dir Schutz\, Inspiration und Trost in allen Lebenslagen. \n\n\nSelbstreflexion: Durch die Eigenschaften deines Krafttieres erkennst du eigene Potenziale und Ressourcen. \n\n\nEnergiearbeit: Die Begegnung stärkt dein energetisches Feld und fördert dein inneres Gleichgewicht. \n\n\nFür wen ist die geführte Krafttier-Meditation geeignet?\nDie geführte Krafttier-Meditation ist ideal für Menschen\, die: \n\n\nihre spirituelle Entwicklung vertiefen möchten\, \n\n\nnach Antworten auf aktuelle Lebensfragen suchen\, \n\n\nSchutz und Inspiration im Alltag brauchen\, \n\n\nneue Wege der inneren Arbeit entdecken wollen. \n\n\nVorkenntnisse sind nicht erforderlich – Offenheit und Neugier genügen. \nTipps für eine nachhaltige Verbindung zu deinem Krafttier\n\n\nRufe dein Krafttier regelmäßig: Besonders in herausfordernden Situationen. \n\n\nSchreibe ein Tagebuch: Halte Begegnungen\, Botschaften und Erlebnisse schriftlich fest. \n\n\nGestalte ein Symbol: Ein Bild oder ein kleiner Talisman kann die Verbindung zu deinem Krafttier im Alltag stärken. \n\n\nVertraue auf die Führung: Dein Krafttier unterstützt dich auch dann\, wenn du es nicht bewusst wahrnimmst. \n\n\n\nMach jetzt den ersten Schritt und erlebe die Magie einer geführten Krafttier-Meditation. Dein spiritueller Begleiter wartet schon auf dich! Melde dich an und beginne deine Reise zu neuer Kraft\, Schutz und Inspiration.
URL:https://hexen-stuebchen.de/veranstaltung/gefuehrte-krafttier-meditation-begegne-deinem-spirituellen-begleiter/
LOCATION:Hexenstübchen\, Kirchplatz 5\, Rinteln\, Niedersachsen\, 31737\, Germany
CATEGORIES:Meditationen
ATTACH;FMTTYPE=image/jpeg:https://hexen-stuebchen.de/wp-content/uploads/2025/01/AdobeStock_1156605595-scaled.jpeg
ORGANIZER;CN="Ria Kestel":MAILTO:info@hexen-stuebchen.de
END:VEVENT
END:VCALENDAR