BEGIN:VCALENDAR
VERSION:2.0
PRODID:-//Hexen-Stuebchen - ECPv6.11.2//NONSGML v1.0//EN
CALSCALE:GREGORIAN
METHOD:PUBLISH
X-WR-CALNAME:Hexen-Stuebchen
X-ORIGINAL-URL:https://hexen-stuebchen.de
X-WR-CALDESC:Veranstaltungen für Hexen-Stuebchen
REFRESH-INTERVAL;VALUE=DURATION:PT1H
X-Robots-Tag:noindex
X-PUBLISHED-TTL:PT1H
BEGIN:VTIMEZONE
TZID:UTC
BEGIN:STANDARD
TZOFFSETFROM:+0000
TZOFFSETTO:+0000
TZNAME:UTC
DTSTART:20260101T000000
END:STANDARD
END:VTIMEZONE
BEGIN:VEVENT
DTSTART;TZID=UTC:20260526T190000
DTEND;TZID=UTC:20260526T200000
DTSTAMP:20260425T205727
CREATED:20250613T154816Z
LAST-MODIFIED:20260404T132512Z
UID:3962-1779822000-1779825600@hexen-stuebchen.de
SUMMARY:Geführte Meditation: Befreie dich vom inneren Schweinehund
DESCRIPTION:Die innere Faulheit\, unser „Schweinehund“\, hält uns oft von wichtigen Vorhaben ab – sportlich\, kreativ oder im Alltag . In dieser liebevoll geführten Meditation trittst du in einen achtsamen Dialog mit deinem inneren Widerstand. Durch sanfte Visualisierung erkennst du\, wie er dich schützt – aber auch\, wie du deine wahren Ziele erreichen kannst. \nWarum diese Meditation besonders kraftvoll ist\n\n\nÜbersicht und Verständnis: Der „Schweinehund“ wird nicht bekämpft\, sondern gewürdigt als Teil deines Gemüts . \n\n\nSanfte Transformation: Mit klaren Bildern löst du lähmende Muster auf \n\n\nEinfache Umsetzung: Du übst nur den ersten Schritt – statt dich überfordert zu fühlen \n\n\nAblauf der Meditation\n\n\nAnkommen – Komfortable Sitz- oder Liegeposition\, achtsame Atmung. \n\n\nBegegnung – Du stellst dir deinen inneren Schweinehund vor\, erkennst seine Absicht. \n\n\nDialog – Du gibst ihm Raum\, hörst zu\, nimmst seine Botschaft an. \n\n\nSchritt-für-Schritt-Motivation – Du gehst bewusst den ersten aktiven Schritt\, ganz klein und machbar. \n\n\nIntegration – Zeit zum Nachspüren und Reflektieren\, um Erkenntnisse für den Alltag mitzunehmen.
URL:https://hexen-stuebchen.de/veranstaltung/gefuehrte-meditation-befreie-dich-vom-inneren-schweinehund/
LOCATION:Hexenstübchen\, Kirchplatz 5\, Rinteln\, Niedersachsen\, 31737\, Germany
CATEGORIES:Meditationen
ATTACH;FMTTYPE=image/png:https://hexen-stuebchen.de/wp-content/uploads/2025/06/Innerer_schweinehund_meditation.png
ORGANIZER;CN="Ria Kestel":MAILTO:info@hexen-stuebchen.de
END:VEVENT
END:VCALENDAR