BEGIN:VCALENDAR
VERSION:2.0
PRODID:-//Hexen-Stuebchen - ECPv6.11.2//NONSGML v1.0//EN
CALSCALE:GREGORIAN
METHOD:PUBLISH
X-WR-CALNAME:Hexen-Stuebchen
X-ORIGINAL-URL:https://hexen-stuebchen.de
X-WR-CALDESC:Veranstaltungen für Hexen-Stuebchen
REFRESH-INTERVAL;VALUE=DURATION:PT1H
X-Robots-Tag:noindex
X-PUBLISHED-TTL:PT1H
BEGIN:VTIMEZONE
TZID:UTC
BEGIN:STANDARD
TZOFFSETFROM:+0000
TZOFFSETTO:+0000
TZNAME:UTC
DTSTART:20260101T000000
END:STANDARD
END:VTIMEZONE
BEGIN:VEVENT
DTSTART;TZID=UTC:20260214T163000
DTEND;TZID=UTC:20260214T180000
DTSTAMP:20260425T210648
CREATED:20251122T122731Z
LAST-MODIFIED:20260110T110350Z
UID:4230-1771086600-1771092000@hexen-stuebchen.de
SUMMARY:Märchenstunde für Groß und Klein
DESCRIPTION:Willkommen zur Märchenstunde \nWährend draußen vielleicht die Welt ein wenig hektisch wirkt\, entsteht hier ein kleiner Ort voller Ruhe\, Wärme und Fantasie. \nHeute reisen wir gemeinsam in eine Welt\, in der Wunder ganz selbstverständlich sind: Wo Tiere sprechen\, Sterne Wünsche erfüllen und selbst die kleinste Gestalt zu einer großen Heldin werden kann. Mit jedem Schluck Kakao wird die Welt ein bisschen weicher\, mit jedem Bissen Keks ein bisschen süßer – und mit jeder Geschichte öffnet sich ein neues Tor in das Reich der Träume.\nAlso lehn dich zurück\, lausche den Worten\, die wie funkelnde kleine Lichter durch den Raum schweben\, und lass dich mitnehmen auf eine Reise\, die nur in der Märchenstunde möglich ist. \nBist du bereit? Dann beginnt unser Abenteuer genau jetzt.\nBei einem zahlenden Erwachsenen sind die Kinder kostenfrei. Es gibt Kakao\, Tee und Gebäck.
URL:https://hexen-stuebchen.de/veranstaltung/maerchenstunde-fuer-gross-und-klein/
LOCATION:Hexenstübchen\, Kirchplatz 5\, Rinteln\, Niedersachsen\, 31737\, Germany
CATEGORIES:Seminare,Workshops
ATTACH;FMTTYPE=image/jpeg:https://hexen-stuebchen.de/wp-content/uploads/2025/11/Kakao-u.-Plaetzchen2.jpg
ORGANIZER;CN="Ria Kestel":MAILTO:info@hexen-stuebchen.de
END:VEVENT
BEGIN:VEVENT
DTSTART;TZID=UTC:20260217T190000
DTEND;TZID=UTC:20260217T200000
DTSTAMP:20260425T210648
CREATED:20250204T184521Z
LAST-MODIFIED:20260110T111805Z
UID:3556-1771354800-1771358400@hexen-stuebchen.de
SUMMARY:Selbstheilungskräfte aktivieren: Deine Reise zum inneren Heiler
DESCRIPTION:Selbstheilungskräfte aktivieren: Dein Weg zu innerer Gesundheit und neuer Lebenskraft\nGesundheit beginnt in dir selbst. Die Fähigkeit\, eigene Selbstheilungskräfte zu aktivieren\, ist ein uraltes Wissen\, das in jedem Menschen schlummert. In einer geführten Reise zu deinem inneren Heiler öffnest du den Zugang zu dieser kraftvollen Ressource und lernst\, deine Gesundheit bewusst zu stärken. \nIn diesem besonderen Erlebnis entdeckst du neue Wege zu mehr Wohlbefinden\, innerem Gleichgewicht und Selbstvertrauen in deine eigene Heilkraft. \nWarum es so wichtig ist\, die Selbstheilungskräfte zu aktivieren\nWas sind Selbstheilungskräfte?\nSelbstheilungskräfte sind natürliche Prozesse deines Körpers und Geistes\, die Gesundheit erhalten oder wiederherstellen können. Schon kleinste Verletzungen zeigen uns\, wie erstaunlich unser Organismus auf Heilung programmiert ist. Emotionale Verletzungen oder energetische Blockaden hingegen bleiben oft länger verborgen – hier setzt die bewusste Aktivierung an. \nDurch die gezielte Arbeit mit deinem inneren Heiler stärkst du die Verbindung zwischen Körper\, Geist und Seele\, was deine Regenerationsfähigkeit enorm unterstützt. \nWas diese Reise einzigartig macht\nIm Gegensatz zu klassischen Entspannungsübungen oder therapeutischen Ansätzen geht diese geführte Reise gezielt zu deinem inneren Heiler. Du begegnest einem inneren Bild\, das deine eigene Heilkraft symbolisiert\, und aktivierst dadurch auf einer tiefen\, unbewussten Ebene Selbstheilungsprozesse. \nDieses Erlebnis bietet Dir nicht nur Entspannung\, sondern nachhaltige energetische Aktivierung. \nDer Ablauf deiner Reise zu den Selbstheilungskräften\nVorbereitung und Einstimmung\nDu beginnst mit sanften Achtsamkeits- und Atemübungen\, die dich in eine entspannte und empfängliche Grundhaltung führen. Der Alltag tritt in den Hintergrund\, dein Fokus richtet sich nach innen. \nDie Begegnung mit deinem inneren Heiler\nIn einer tief geführten Meditation begegnest du deinem inneren Heiler – einem Symbol deiner eigenen Regenerationskraft. Du nimmst Kontakt auf\, empfängst Impulse und wirst eingeladen\, Vertrauen in deine eigene Heilfähigkeit zu entwickeln. \nIntegration und Nachspüren\nNach der Meditation bleibt Zeit\, deine Erfahrungen bewusst zu verankern. Durch kleine Rituale oder Reflexionsübungen kannst du die Verbindung zu deinem inneren Heiler im Alltag lebendig halten. \nFür wen ist die Reise zu den Selbstheilungskräften geeignet?\nDiese Veranstaltung eignet sich für alle\, die: \n\n\nihre Gesundheit auf natürliche Weise unterstützen möchten\, \n\n\nalternative Wege zur Heilung suchen\, \n\n\nemotionale Blockaden auflösen wollen\, \n\n\nihre Achtsamkeit und Körperwahrnehmung vertiefen möchten. \n\n\nVorkenntnisse sind nicht erforderlich – Offenheit und die Bereitschaft\, sich auf innere Prozesse einzulassen\, genügen völlig. \nTipps zur nachhaltigen Aktivierung deiner Selbstheilungskräfte\n\n\nRegelmäßige Praxis: Wiederhole die Meditation und den Kontakt zu deinem inneren Heiler regelmäßig. \n\n\nSelbstfürsorge im Alltag: Achte bewusst auf Ernährung\, Schlaf und positive Gedanken. \n\n\nEnergiearbeit: Unterstütze deine Selbstheilung durch ergänzende Methoden wie Reiki\, Klangschalen oder sanfte Bewegung. \n\n\nDankbarkeit kultivieren: Erkenne und würdige die Heilkräfte deines Körpers und deiner Seele.
URL:https://hexen-stuebchen.de/veranstaltung/selbstheilungskraefte-aktivieren-deine-reise-zum-inneren-heiler/
LOCATION:Hexenstübchen\, Kirchplatz 5\, Rinteln\, Niedersachsen\, 31737\, Germany
CATEGORIES:Meditationen
ATTACH;FMTTYPE=image/png:https://hexen-stuebchen.de/wp-content/uploads/2025/02/Meditation_Selbstheilungskrfte_aktivieren.png
ORGANIZER;CN="Ria Kestel":MAILTO:info@hexen-stuebchen.de
END:VEVENT
BEGIN:VEVENT
DTSTART;TZID=UTC:20260220T190000
DTEND;TZID=UTC:20260220T213000
DTSTAMP:20260425T210648
CREATED:20251206T101143Z
LAST-MODIFIED:20260221T131247Z
UID:4257-1771614000-1771623000@hexen-stuebchen.de
SUMMARY:Wie meistere ich meinen Seelenaufstieg mit Mutter Erde?
DESCRIPTION:Viele Menschen machen sich mehr Gedanken um ihre Urlaube als um ihre Seelenreise. Der Aufstieg mit Mutter Erde ist das bisher wichtigste Ereignis der Menschheitsgeschichte und hat nicht nur Konsequenzen für unser Leben hier auf der Erde\, sondern auch weitreichende Folgen für unser Sonnensystem und unser Universum. Schon in den ältesten Schriften wird von diesem Aufstieg\, der uns kurz bevor steht\, gesprochen. Was sind das für Vorhersagen? Was bedeuten sie für uns als Menschheit\, aber auch für dich persönlich? Wird jeder Mensch aufsteigen können? Ist dies ein Ereignis\, das du fürchten musst oder dem du gespannt entgegenblicken darfst? \nDu wirst an diesem Abend erfahren\, wie die Menschheit mit Mutter Erde aufsteigen kann\, und welche Unterstützung sie dabei aus dem Kosmos und aus der Geistigen Welt erhält. Es werden dir deine persönlichen Möglichkeiten des Aufstiegs klarer werden und damit auch die inneren Qualitäten\, die du zu meistern oder zu entwickeln hast. Wir werden heute sprechen über…\n\nden vermeintlichen Ursprung der Menschheit und den Endkampf von Gut und Böse um die Zukunft der Menschheit.\nunser galaktisches Erbe.\ndie Hilfe\, die wir von anderen Sternennationen aus dem Universum erhalten.\ndie Hilfe\, die die Geistige Welt uns zukommen lässt.\ndie Entwicklung deiner Herzqualitäten.\ndie Notwendigkeit\, in Deiner inneren Kraft zu sein.\ndie Dringlichkeit\, mit gefestigtem Selbstbewusstsein\, großem Selbstwertgefühl und radikaler Selbstliebe zu leben.\ndie Wichtigkeit\, ein Licht für andere und die Welt zu sein.\n\nIch freue mich sehr darauf\, dir an diesem Abend über den Aufstieg von Mutter Erde mit der Menschheit berichten zu dürfen. Bringe dir bitte ein Notizbuch und einen Stift mit\, damit du deine Erlebnisse notieren kannst. Ich danke dir sehr\, Antje. \nDozentin: Antje Storey\nAscension Witchery ~ Hexenkunst und Spiritualität für deinen Seelenaufstieg\nwww.antjestorey.de \n  \n\n  \n 
URL:https://hexen-stuebchen.de/veranstaltung/wie-meistere-ich-meinen-seelenaufstieg-mit-mutter-erde/
LOCATION:Hexenstübchen\, Kirchplatz 5\, Rinteln\, Niedersachsen\, 31737\, Germany
CATEGORIES:Seminare,Workshops
ATTACH;FMTTYPE=image/png:https://hexen-stuebchen.de/wp-content/uploads/2025/12/Antje-Storey-Vortrag-Seelenaufstieg-CANCA-Sticker-100-x-80.png
ORGANIZER;CN="Ria Kestel":MAILTO:info@hexen-stuebchen.de
END:VEVENT
BEGIN:VEVENT
DTSTART;TZID=UTC:20260228T100000
DTEND;TZID=UTC:20260228T160000
DTSTAMP:20260425T210648
CREATED:20251027T171752Z
LAST-MODIFIED:20260203T083418Z
UID:4183-1772272800-1772294400@hexen-stuebchen.de
SUMMARY:Buche eine Kartenlegung\, um mehr Klarheit für deinen Lebensweg zu bekommen
DESCRIPTION:Manchmal ist weiser Rat wichtig\, um zuversichtlich\, selbstbewusst und mit innerer Kraft auf dem persönlichen Lebensweg voranzuschreiten. Es ist so wertvoll zu wissen\, wo deine eigenen Blockaden liegen\, und wie du diese überwinden kannst. Wenn alles im Unklaren liegt\, kann dir meine Kartenlegung dabei helfen\, in die Klarheit zu kommen. Ich zeige dir auf\, welche deiner Charaktereigenschaften\, deiner Talente und deiner Fähigkeiten dich voranbringen in deiner Persönlichkeitsentwicklung. Ich werfe gerne ein Licht auf all die Dinge\, die gerade in deinem Leben möglich werden\, damit du alles loslassen kannst\, was dir nicht länger dienlich ist. In deiner Beratung werde ich dir alles sagen\, was für dich gerade wichtig zu wissen ist. Das einzige\, was ich nicht beantworte\, sind gesundheitliche Fragen\, und ich stelle auch keine gesundheitlichen Diagnosen\, denn ich bin weder Heilpraktikerin noch Ärztin noch Psychologin.  \nIch lege schon seit über 20 Jahren professionell die Karten und nutze meine Tarot-\, Lenormand- und Orakelkarten ausschließlich für deine Persönlichkeitsentwicklung und das Finden von Lösungen für dich\, aber nicht für das Treffen von festgelegten Zukunftsvorhersagen\, denn letztere würden dich in deiner Persönlichkeitsentwicklung und auf deinem Lebensweg enorm einschränken. Es könnte so der falsche Eindruck entstehen\, dass deine Zukunft in Stein gemeißelt sei. Das ist nicht der Fall\, denn du selbst manifestierst sie. Festgelegte Zukunftsvorhersagen würden dich aus dem Einklang mit deiner Seelenmission hier auf der Erde und dich in einen Zustand der Hilflosigkeit oder Abhängigkeit in Bezug auf ein vorherbestimmtes Schicksal bringen. Mein Anliegen ist es\, \n\n  \nBitte buche rechtzeitig deinen Termin! Ich freue mich sehr darauf\, dich beraten zu dürfen. Wenn du magst\, bring dir bitte ein Notizbuch und einen Stift mit\, damit du dir während der Beratung Notizen machen kannst. Melde dich schnell an\, die Plätze sind begrenzt. Ich danke dir sehr\, Antje \n45\,00 € für 30 Minuten Beratung \nKartenlegerin: Antje Storey\nAscension Witchery ~ Hexenkunst und Spiritualität für Deinen Seelenaufstieg\nwww.antjestorey.de \n 
URL:https://hexen-stuebchen.de/veranstaltung/lerne-deine-geistfuehrer-kennen/
LOCATION:Hexenstübchen\, Kirchplatz 5\, Rinteln\, Niedersachsen\, 31737\, Germany
CATEGORIES:Workshops
ATTACH;FMTTYPE=image/png:https://hexen-stuebchen.de/wp-content/uploads/2025/10/Antje-Storey-2026-Kartenlegen-im-Hexen-Stuebchen-CANCA-Sticker-100-x-80.png
ORGANIZER;CN="Ria Kestel":MAILTO:info@hexen-stuebchen.de
END:VEVENT
END:VCALENDAR