BEGIN:VCALENDAR
VERSION:2.0
PRODID:-//Hexen-Stuebchen - ECPv6.11.2//NONSGML v1.0//EN
CALSCALE:GREGORIAN
METHOD:PUBLISH
X-ORIGINAL-URL:https://hexen-stuebchen.de
X-WR-CALDESC:Veranstaltungen für Hexen-Stuebchen
REFRESH-INTERVAL;VALUE=DURATION:PT1H
X-Robots-Tag:noindex
X-PUBLISHED-TTL:PT1H
BEGIN:VTIMEZONE
TZID:UTC
BEGIN:STANDARD
TZOFFSETFROM:+0000
TZOFFSETTO:+0000
TZNAME:UTC
DTSTART:20260101T000000
END:STANDARD
END:VTIMEZONE
BEGIN:VEVENT
DTSTART;TZID=UTC:20260428T190000
DTEND;TZID=UTC:20260428T200000
DTSTAMP:20260425T175115
CREATED:20260314T103123Z
LAST-MODIFIED:20260314T103704Z
UID:4399-1777402800-1777406400@hexen-stuebchen.de
SUMMARY:Meditation: In meinem Licht - energetischer Selbstschutz
DESCRIPTION:In unserem Alltag begegnen wir vielen Energien – Gedanken\, Emotionen\, Erwartungen anderer Menschen. Manche davon nähren und stärken uns. Andere können sich schwer anfühlen oder uns aus unserer inneren Balance bringen. \nDiese Meditation lädt dich ein\, dich wieder mit deinem eigenen Licht zu verbinden. Mit deiner inneren Kraft\, deiner Klarheit und deinem natürlichen Schutzfeld. \nDu musst nichts erzwingen. Dein Energiesystem weiß genau\, wie es sich ausrichten darf\, wenn du ihm Raum gibst. \nDas Licht\, mit dem wir heute arbeiten\, ist kein äußeres Licht. Es ist dein eigenes inneres Licht – die Energie deiner Seele\, deiner Wahrheit und deiner Präsenz. \nWährend dieser Meditation darf sich dein Energiefeld reinigen\, stabilisieren und neu ausrichten. Alles\, was nicht zu dir gehört\, darf sich sanft lösen. Alles\, was dich stärkt\, darf sich ausdehnen. \n\n✨ Was dich in dieser Meditation erwartet\n\n️Ankommen & Loslassen\nErdung & Verwurzelung\nReinigung\n️Aufbau des Schutzfeldes\nVerankerung – Dein innerer Tempel\nAffirmationen des Schutzes\nRückkehr\n\nFühle Dich eingeladen\, dieses Licht mit in deinen Tag\, in dein Leben und in jede Begegnung zu nehmen als stillen\, kraftvollen Schutz aus deinem Inneren.
URL:https://hexen-stuebchen.de/veranstaltung/meditation-in-meinem-licht-energetischer-selbstschutz/
LOCATION:Hexenstübchen\, Kirchplatz 5\, Rinteln\, Niedersachsen\, 31737\, Germany
CATEGORIES:Meditationen
ATTACH;FMTTYPE=image/jpeg:https://hexen-stuebchen.de/wp-content/uploads/2026/03/Person-im-goldenen-Licht.jpg
ORGANIZER;CN="Ria Kestel":MAILTO:info@hexen-stuebchen.de
END:VEVENT
END:VCALENDAR