BEGIN:VCALENDAR
VERSION:2.0
PRODID:-//Hexen-Stuebchen - ECPv6.11.2//NONSGML v1.0//EN
CALSCALE:GREGORIAN
METHOD:PUBLISH
X-WR-CALNAME:Hexen-Stuebchen
X-ORIGINAL-URL:https://hexen-stuebchen.de
X-WR-CALDESC:Veranstaltungen für Hexen-Stuebchen
REFRESH-INTERVAL;VALUE=DURATION:PT1H
X-Robots-Tag:noindex
X-PUBLISHED-TTL:PT1H
BEGIN:VTIMEZONE
TZID:UTC
BEGIN:STANDARD
TZOFFSETFROM:+0000
TZOFFSETTO:+0000
TZNAME:UTC
DTSTART:20260101T000000
END:STANDARD
END:VTIMEZONE
BEGIN:VEVENT
DTSTART;TZID=UTC:20260123T190000
DTEND;TZID=UTC:20260123T203000
DTSTAMP:20260422T061317
CREATED:20251209T170708Z
LAST-MODIFIED:20251209T172608Z
UID:4266-1769194800-1769200200@hexen-stuebchen.de
SUMMARY:Buchlesung "Die Harmonie der Chakren" - ein Wegweiser zu deiner Energiebalance
DESCRIPTION:In diesem Buch zeigt die Autorin\, wie Du Deine inneren Energiezentren\, die Chakren\, besser verstehen und durch verschiedenste Möglichkeiten ausbalancieren kannst. \nVon Meditationen\, Aromatherapie\, Ernährung und Yogaübungen bis hin zu heilenden Kräften von Edelsteinen und Kristallen erhältst du zu jedem der 7 Hauptchakren Vorschläge\, wie du diese Methoden in deinen Alltag integrieren kannst\, um so deine Chakren wieder in Balance zu bringen und Blockaden zu lösen.\nDies ist eine spannende Reise durch die Welt der Chakren\, die nicht nur wichtig für unser körperliches\, emotionales und spirituelles Wohl sind\, sondern auch Türen öffnen können zu einem tieferen Verständnis von uns selbst und unserer Verbindung zum Universum.
URL:https://hexen-stuebchen.de/veranstaltung/buchlesung-die-harmonie-der-chakren-ein-wegweiser-zu-deiner-energiebalance/
LOCATION:Hexenstübchen\, Kirchplatz 5\, Rinteln\, Niedersachsen\, 31737\, Germany
CATEGORIES:Seminare,Workshops
ATTACH;FMTTYPE=image/jpeg:https://hexen-stuebchen.de/wp-content/uploads/2025/12/2025-12-09-riake.jpg
ORGANIZER;CN="Ria Kestel":MAILTO:info@hexen-stuebchen.de
END:VEVENT
END:VCALENDAR